Workbook

Sheet Vendas
A1: Data | B1: Cliente | C1: Itens vendidos | D1: Qtd | E1: Valor (R$) | F1: Forma de pagamento | G1: Recebido?
A2: 46297 | B2: Mariana | C2: Blusa de malha | D2: 2 | E2: 120 | F2: Pix | G2: Sim
A3: 46310 | B3: Lia | C3: Kit de cosméticos | D3: 1 | E3: 89.9 | F3: A prazo | G3: Não
A4: 46315 | B4: Carlos | C4: Conserto de celular | D4: 1 | E4: 150 | F4: Cartão de crédito | G4: Sim

Sheet Resumo do mês
A1: Resumo do mês
A2: Digite o mês na célula B3. As contas leem a aba Vendas até a linha 2000.
A3: Mês (qualquer dia do mês) | B3: 46296
A5: Total vendido | B5: =SUMIFS(Vendas!$E$2:$E$2000,Vendas!$A$2:$A$2000,">="&$B$3,Vendas!$A$2:$A$2000,"<"&EDATE($B$3,1))
A6: Total recebido | B6: =SUMIFS(Vendas!$E$2:$E$2000,Vendas!$G$2:$G$2000,"Sim",Vendas!$A$2:$A$2000,">="&$B$3,Vendas!$A$2:$A$2000,"<"&EDATE($B$3,1))
A7: A receber | B7: =B5-B6
A8: Número de vendas no mês | B8: =COUNTIFS(Vendas!$A$2:$A$2000,">="&$B$3,Vendas!$A$2:$A$2000,"<"&EDATE($B$3,1))
A9: Ticket médio | B9: =IF(B8=0,0,B5/B8)
A11: Por forma de pagamento | B11: Total (R$)
A12: Pix | B12: =SUMIFS(Vendas!$E$2:$E$2000,Vendas!$F$2:$F$2000,A12,Vendas!$A$2:$A$2000,">="&$B$3,Vendas!$A$2:$A$2000,"<"&EDATE($B$3,1))
A13: Dinheiro | B13: =SUMIFS(Vendas!$E$2:$E$2000,Vendas!$F$2:$F$2000,A13,Vendas!$A$2:$A$2000,">="&$B$3,Vendas!$A$2:$A$2000,"<"&EDATE($B$3,1))
A14: Cartão de débito | B14: =SUMIFS(Vendas!$E$2:$E$2000,Vendas!$F$2:$F$2000,A14,Vendas!$A$2:$A$2000,">="&$B$3,Vendas!$A$2:$A$2000,"<"&EDATE($B$3,1))
A15: Cartão de crédito | B15: =SUMIFS(Vendas!$E$2:$E$2000,Vendas!$F$2:$F$2000,A15,Vendas!$A$2:$A$2000,">="&$B$3,Vendas!$A$2:$A$2000,"<"&EDATE($B$3,1))
A16: A prazo | B16: =SUMIFS(Vendas!$E$2:$E$2000,Vendas!$F$2:$F$2000,A16,Vendas!$A$2:$A$2000,">="&$B$3,Vendas!$A$2:$A$2000,"<"&EDATE($B$3,1))
A17: Outra | B17: =SUMIFS(Vendas!$E$2:$E$2000,Vendas!$F$2:$F$2000,A17,Vendas!$A$2:$A$2000,">="&$B$3,Vendas!$A$2:$A$2000,"<"&EDATE($B$3,1))

Sheet Clientes
A1: Cliente | B1: Compras | C1: Total comprado (R$) | D1: Ainda a receber (R$) | F1: Escreva o nome de cada cliente na coluna A, igual ao nome usado na aba Vendas.
A2: Mariana | B2: =IF($A2="","",COUNTIF(Vendas!$B$2:$B$2000,$A2)) | C2: =IF($A2="","",SUMIF(Vendas!$B$2:$B$2000,$A2,Vendas!$E$2:$E$2000)) | D2: =IF($A2="","",SUMIFS(Vendas!$E$2:$E$2000,Vendas!$B$2:$B$2000,$A2,Vendas!$G$2:$G$2000,"Não"))
A3: Lia | B3: =IF($A3="","",COUNTIF(Vendas!$B$2:$B$2000,$A3)) | C3: =IF($A3="","",SUMIF(Vendas!$B$2:$B$2000,$A3,Vendas!$E$2:$E$2000)) | D3: =IF($A3="","",SUMIFS(Vendas!$E$2:$E$2000,Vendas!$B$2:$B$2000,$A3,Vendas!$G$2:$G$2000,"Não"))
A4: Carlos | B4: =IF($A4="","",COUNTIF(Vendas!$B$2:$B$2000,$A4)) | C4: =IF($A4="","",SUMIF(Vendas!$B$2:$B$2000,$A4,Vendas!$E$2:$E$2000)) | D4: =IF($A4="","",SUMIFS(Vendas!$E$2:$E$2000,Vendas!$B$2:$B$2000,$A4,Vendas!$G$2:$G$2000,"Não"))
B5: =IF($A5="","",COUNTIF(Vendas!$B$2:$B$2000,$A5)) | C5: =IF($A5="","",SUMIF(Vendas!$B$2:$B$2000,$A5,Vendas!$E$2:$E$2000)) | D5: =IF($A5="","",SUMIFS(Vendas!$E$2:$E$2000,Vendas!$B$2:$B$2000,$A5,Vendas!$G$2:$G$2000,"Não"))
B6: =IF($A6="","",COUNTIF(Vendas!$B$2:$B$2000,$A6)) | C6: =IF($A6="","",SUMIF(Vendas!$B$2:$B$2000,$A6,Vendas!$E$2:$E$2000)) | D6: =IF($A6="","",SUMIFS(Vendas!$E$2:$E$2000,Vendas!$B$2:$B$2000,$A6,Vendas!$G$2:$G$2000,"Não"))
B7: =IF($A7="","",COUNTIF(Vendas!$B$2:$B$2000,$A7)) | C7: =IF($A7="","",SUMIF(Vendas!$B$2:$B$2000,$A7,Vendas!$E$2:$E$2000)) | D7: =IF($A7="","",SUMIFS(Vendas!$E$2:$E$2000,Vendas!$B$2:$B$2000,$A7,Vendas!$G$2:$G$2000,"Não"))
B8: =IF($A8="","",COUNTIF(Vendas!$B$2:$B$2000,$A8)) | C8: =IF($A8="","",SUMIF(Vendas!$B$2:$B$2000,$A8,Vendas!$E$2:$E$2000)) | D8: =IF($A8="","",SUMIFS(Vendas!$E$2:$E$2000,Vendas!$B$2:$B$2000,$A8,Vendas!$G$2:$G$2000,"Não"))
B9: =IF($A9="","",COUNTIF(Vendas!$B$2:$B$2000,$A9)) | C9: =IF($A9="","",SUMIF(Vendas!$B$2:$B$2000,$A9,Vendas!$E$2:$E$2000)) | D9: =IF($A9="","",SUMIFS(Vendas!$E$2:$E$2000,Vendas!$B$2:$B$2000,$A9,Vendas!$G$2:$G$2000,"Não"))
B10: =IF($A10="","",COUNTIF(Vendas!$B$2:$B$2000,$A10)) | C10: =IF($A10="","",SUMIF(Vendas!$B$2:$B$2000,$A10,Vendas!$E$2:$E$2000)) | D10: =IF($A10="","",SUMIFS(Vendas!$E$2:$E$2000,Vendas!$B$2:$B$2000,$A10,Vendas!$G$2:$G$2000,"Não"))
B11: =IF($A11="","",COUNTIF(Vendas!$B$2:$B$2000,$A11)) | C11: =IF($A11="","",SUMIF(Vendas!$B$2:$B$2000,$A11,Vendas!$E$2:$E$2000)) | D11: =IF($A11="","",SUMIFS(Vendas!$E$2:$E$2000,Vendas!$B$2:$B$2000,$A11,Vendas!$G$2:$G$2000,"Não"))
B12: =IF($A12="","",COUNTIF(Vendas!$B$2:$B$2000,$A12)) | C12: =IF($A12="","",SUMIF(Vendas!$B$2:$B$2000,$A12,Vendas!$E$2:$E$2000)) | D12: =IF($A12="","",SUMIFS(Vendas!$E$2:$E$2000,Vendas!$B$2:$B$2000,$A12,Vendas!$G$2:$G$2000,"Não"))
B13: =IF($A13="","",COUNTIF(Vendas!$B$2:$B$2000,$A13)) | C13: =IF($A13="","",SUMIF(Vendas!$B$2:$B$2000,$A13,Vendas!$E$2:$E$2000)) | D13: =IF($A13="","",SUMIFS(Vendas!$E$2:$E$2000,Vendas!$B$2:$B$2000,$A13,Vendas!$G$2:$G$2000,"Não"))
B14: =IF($A14="","",COUNTIF(Vendas!$B$2:$B$2000,$A14)) | C14: =IF($A14="","",SUMIF(Vendas!$B$2:$B$2000,$A14,Vendas!$E$2:$E$2000)) | D14: =IF($A14="","",SUMIFS(Vendas!$E$2:$E$2000,Vendas!$B$2:$B$2000,$A14,Vendas!$G$2:$G$2000,"Não"))
B15: =IF($A15="","",COUNTIF(Vendas!$B$2:$B$2000,$A15)) | C15: =IF($A15="","",SUMIF(Vendas!$B$2:$B$2000,$A15,Vendas!$E$2:$E$2000)) | D15: =IF($A15="","",SUMIFS(Vendas!$E$2:$E$2000,Vendas!$B$2:$B$2000,$A15,Vendas!$G$2:$G$2000,"Não"))
B16: =IF($A16="","",COUNTIF(Vendas!$B$2:$B$2000,$A16)) | C16: =IF($A16="","",SUMIF(Vendas!$B$2:$B$2000,$A16,Vendas!$E$2:$E$2000)) | D16: =IF($A16="","",SUMIFS(Vendas!$E$2:$E$2000,Vendas!$B$2:$B$2000,$A16,Vendas!$G$2:$G$2000,"Não"))
... B301: =IF($A301="","",COUNTIF(Vendas!$B$2:$B$2000,$A301)) | C301: =IF($A301="","",SUMIF(Vendas!$B$2:$B$2000,$A301,Vendas!$E$2:$E$2000)) | D301: =IF($A301="","",SUMIFS(Vendas!$E$2:$E$2000,Vendas!$B$2:$B$2000,$A301,Vendas!$G$2:$G$2000,"Não"))
